BEGIN:VCALENDAR
VERSION:2.0
PRODID:icalendar-ruby
CALSCALE:GREGORIAN
BEGIN:VEVENT
DTSTAMP:20180122T134350Z
UID:e2bc5bda-b2d6-4f7c-8168-f092c828de56
DTSTART:20180129T193000Z
DESCRIPTION:Term 1 2018 is from Tuesday 3oth January until Friday 13th Apri
 l 2018.
LOCATION:McKenzie Centre
SUMMARY:Term 1 2018
URL:
END:VEVENT
BEGIN:VEVENT
DTSTAMP:20180122T134350Z
UID:869552c0-2763-4995-8741-a714217a2116
DTSTART:20180207T220000Z
DESCRIPTION:Sue Scott\, Physiotherapist\, runs this group monthly with chil
 dren born prematurely. Children ‘graduate’ from this group once they b
 egin to walk and are meeting their milestones. This playgroup is available
  for premature babies and their families. We meet on the second Thursday o
 f each month\, except January\, from 11am to 12 noon.\n\nThis group is ope
 n to all premature babies born before 34 weeks gestation\, right up until 
 they are walking. Siblings are welcome to attend also. The group is facili
 tated by a physiotherapist and other specialists are available.\n\n   We p
 rovide\n\n• A supportive playgroup.\n•Opportunities to meet other pare
 nts and their premature infants.\n•Play and socialisation for your baby.
 \n•Advice about your child's development.\n•Invited speakers as reques
 ted.\n\nMcKenzie Centre has offered its playrooms as the venue\, you are n
 ot expected to enroll your child at the Centre. If your child does require
  early intervention we can arrange access to  the McKenzie Centre or other
  services in the community.\n\n Siblings are welcome\, McKenzie Centre has
  a large playroom\, so while you and your baby enjoy Premmie Playmates\, b
 rothers and sisters can have some fun too! They will be supervised by McKe
 nzie Centre staff.\n\nGrandparents and other interested family members are
  welcome.\n\nWe are all very aware of spreading bugs so we know that you w
 ill not attend when you or your children are unwell.\n\n - 10.00
LOCATION:McKenzie Centre
SUMMARY:Premmies Play Group
URL:
END:VEVENT
BEGIN:VEVENT
DTSTAMP:20180122T134350Z
UID:a90b1a2b-2073-4f3d-baf7-e3e62d684539
DTSTART:20180429T203000Z
DESCRIPTION:Term Two at McKenzie Centre will run from Monday 30th April unt
 il Friday 6th July 2018.
LOCATION:McKenzie Centre
SUMMARY:Term 2 2018
URL:
END:VEVENT
BEGIN:VEVENT
DTSTAMP:20180122T134350Z
UID:af50f641-7f8e-4855-98de-987784158a50
DTSTART:20180722T203000Z
DESCRIPTION:Term 3 starts on Monday July 23rd and ends on Friday September 
 28th 2018.
LOCATION:McKenzie Centre
SUMMARY:Term 3 2018
URL:
END:VEVENT
END:VCALENDAR
